BEGIN:VCALENDAR
VERSION:2.0
PRODID:-//West Virginia South Nazarene District - ECPv6.15.20//NONSGML v1.0//EN
CALSCALE:GREGORIAN
METHOD:PUBLISH
X-WR-CALNAME:West Virginia South Nazarene District
X-ORIGINAL-URL:https://wvsnazarene.org
X-WR-CALDESC:Events for West Virginia South Nazarene District
REFRESH-INTERVAL;VALUE=DURATION:PT1H
X-Robots-Tag:noindex
X-PUBLISHED-TTL:PT1H
BEGIN:VTIMEZONE
TZID:America/New_York
BEGIN:DAYLIGHT
TZOFFSETFROM:-0500
TZOFFSETTO:-0400
TZNAME:EDT
DTSTART:20250309T070000
END:DAYLIGHT
BEGIN:STANDARD
TZOFFSETFROM:-0400
TZOFFSETTO:-0500
TZNAME:EST
DTSTART:20251102T060000
END:STANDARD
BEGIN:DAYLIGHT
TZOFFSETFROM:-0500
TZOFFSETTO:-0400
TZNAME:EDT
DTSTART:20260308T070000
END:DAYLIGHT
BEGIN:STANDARD
TZOFFSETFROM:-0400
TZOFFSETTO:-0500
TZNAME:EST
DTSTART:20261101T060000
END:STANDARD
BEGIN:DAYLIGHT
TZOFFSETFROM:-0500
TZOFFSETTO:-0400
TZNAME:EDT
DTSTART:20270314T070000
END:DAYLIGHT
BEGIN:STANDARD
TZOFFSETFROM:-0400
TZOFFSETTO:-0500
TZNAME:EST
DTSTART:20271107T060000
END:STANDARD
END:VTIMEZONE
BEGIN:VEVENT
DTSTART;VALUE=DATE:20260417
DTEND;VALUE=DATE:20260419
DTSTAMP:20260418T170205
CREATED:20260128T204108Z
LAST-MODIFIED:20260128T204136Z
UID:1044-1776384000-1776556799@wvsnazarene.org
SUMMARY:MVNU Women's Auxiliary Spring Conference
DESCRIPTION:Join us at MVNU Women’s Auxiliary Spring Conference with special speaker Rebekah Gregory. \nClick here to Download the FlyerClick here to Learn More and Register
URL:https://wvsnazarene.org/event/mvnu-womens-auxiliary-spring-conference/
LOCATION:MVNU\, 800 Martinsburg Rd\, Mount Vernon\, OH\, 43050\, United States
CATEGORIES:Women's Event
ATTACH;FMTTYPE=image/jpeg:https://wvsnazarene.org/wp-content/uploads/2026/01/MVNU-Aux-Thumb.jpg
END:VEVENT
BEGIN:VEVENT
DTSTART;VALUE=DATE:20260418
DTEND;VALUE=DATE:20260419
DTSTAMP:20260418T170205
CREATED:20250122T021109Z
LAST-MODIFIED:20260128T203639Z
UID:916-1776470400-1776556799@wvsnazarene.org
SUMMARY:WVS Junior BLAST
DESCRIPTION:Showcase Your Talents! \nArt\, Cooking\, Vocals & Instrumentals (solo/group)\, Puppetry\, Drama\, Speech\, Choreographed Worship\, Scripture Memorization\, Human Video\, Crafts\, Creative Writing \nKingergarten – 5th Grade \nDownload the flyer for the eventJoin the Facebook Group
URL:https://wvsnazarene.org/event/wvs-junior-blast/
LOCATION:Hurricane First Church of the Nazarene\, 358 US-60\, Culloden\, WV\, 25510\, United States
CATEGORIES:Children's Events
ATTACH;FMTTYPE=image/jpeg:https://wvsnazarene.org/wp-content/uploads/2025/01/Jr-Blast-Thumb.jpg
END:VEVENT
END:VCALENDAR